BEGIN:VCALENDAR
VERSION:2.0
PRODID:-//US WINDSURFING - ECPv6.0.0//NONSGML v1.0//EN
CALSCALE:GREGORIAN
METHOD:PUBLISH
X-WR-CALNAME:US WINDSURFING
X-ORIGINAL-URL:https://uswindsurfing.org
X-WR-CALDESC:Events for US WINDSURFING
REFRESH-INTERVAL;VALUE=DURATION:PT1H
X-Robots-Tag:noindex
X-PUBLISHED-TTL:PT1H
BEGIN:VTIMEZONE
TZID:UTC
BEGIN:STANDARD
TZOFFSETFROM:+0000
TZOFFSETTO:+0000
TZNAME:UTC
DTSTART:20140101T000000
END:STANDARD
END:VTIMEZONE
BEGIN:VEVENT
DTSTART;TZID=UTC:20141029T080000
DTEND;TZID=UTC:20141111T170000
DTSTAMP:20260421T100945
CREATED:20140520T040331Z
LAST-MODIFIED:20140520T040331Z
UID:2644-1414569600-1415725200@uswindsurfing.org
SUMMARY:2014 Maui Aloha Classic
DESCRIPTION:Grand Finale of the 2014 AWT and PWA Wave Tour!
URL:https://uswindsurfing.org/event/2014-maui-aloha-classic/
LOCATION:Ho’okipa Beach Park\, Hookipa Park\, Paia\, HI\, United States
CATEGORIES:Waves
END:VEVENT
BEGIN:VEVENT
DTSTART;TZID=UTC:20141031T080000
DTEND;TZID=UTC:20141105T170000
DTSTAMP:20260421T100945
CREATED:20140124T044043Z
LAST-MODIFIED:20140124T044043Z
UID:1772-1414742400-1415206800@uswindsurfing.org
SUMMARY:2014 Kona World Championships
DESCRIPTION:Kona USA is proud to announce that the 2014 Kona World Championships will be held in Islamorada\, Florida\, USA from October 31 to November 5.
URL:https://uswindsurfing.org/event/2014-kona-world-championships/
LOCATION:Islamorada\, islamorada\, FL\, United States
CATEGORIES:International,Kona
END:VEVENT
END:VCALENDAR