BEGIN:VCALENDAR
VERSION:2.0
PRODID:-//US WINDSURFING - ECPv6.0.0//NONSGML v1.0//EN
CALSCALE:GREGORIAN
METHOD:PUBLISH
X-ORIGINAL-URL:https://uswindsurfing.org
X-WR-CALDESC:Events for US WINDSURFING
REFRESH-INTERVAL;VALUE=DURATION:PT1H
X-Robots-Tag:noindex
X-PUBLISHED-TTL:PT1H
BEGIN:VTIMEZONE
TZID:UTC
BEGIN:STANDARD
TZOFFSETFROM:+0000
TZOFFSETTO:+0000
TZNAME:UTC
DTSTART:20140101T000000
END:STANDARD
END:VTIMEZONE
BEGIN:VEVENT
DTSTART;TZID=UTC:20141116T080000
DTEND;TZID=UTC:20141116T170000
DTSTAMP:20260421T101329
CREATED:20140403T025823Z
LAST-MODIFIED:20141114T165427Z
UID:2281-1416124800-1416157200@uswindsurfing.org
SUMMARY:2014 Miami Slalom Open
DESCRIPTION:BREAKING NEWS\nMIAMI SLALOM OPEN 2014\nWILL BE RE-RUN\nSUNDAY\, Nov 16
URL:https://uswindsurfing.org/event/2014-miami-slalom-open/
LOCATION:Virginia Key\, 4020 Virginia Beach Dr\, Miami\, FL\, 33149\, United States
CATEGORIES:NRT,Slalom
END:VEVENT
END:VCALENDAR