BEGIN:VCALENDAR
VERSION:2.0
PRODID:-//US WINDSURFING - ECPv6.0.0//NONSGML v1.0//EN
CALSCALE:GREGORIAN
METHOD:PUBLISH
X-ORIGINAL-URL:https://uswindsurfing.org
X-WR-CALDESC:Events for US WINDSURFING
REFRESH-INTERVAL;VALUE=DURATION:PT1H
X-Robots-Tag:noindex
X-PUBLISHED-TTL:PT1H
BEGIN:VTIMEZONE
TZID:UTC
BEGIN:STANDARD
TZOFFSETFROM:+0000
TZOFFSETTO:+0000
TZNAME:UTC
DTSTART:20250101T000000
END:STANDARD
END:VTIMEZONE
BEGIN:VEVENT
DTSTART;TZID=UTC:20250814T080000
DTEND;TZID=UTC:20250814T170000
DTSTAMP:20260424T041152
CREATED:20250624T171626Z
LAST-MODIFIED:20250624T171626Z
UID:7532-1755158400-1755190800@uswindsurfing.org
SUMMARY:2025 Thursday Slalom Foil Series
DESCRIPTION:
URL:https://uswindsurfing.org/event/2025-thursday-slalom-foil-series-2/
LOCATION:St Francis Yacht Club\, 99 Yacht Rd\, San Francisco\, CA\, 94123\, United States
CATEGORIES:Foiling,Slalom
ATTACH;FMTTYPE=image/jpeg:https://uswindsurfing.org/wp-content/uploads/2020/03/01s-1.jpg
END:VEVENT
BEGIN:VEVENT
DTSTART;TZID=UTC:20250815T080000
DTEND;TZID=UTC:20250815T170000
DTSTAMP:20260424T041152
CREATED:20250624T171908Z
LAST-MODIFIED:20250624T171908Z
UID:7536-1755244800-1755277200@uswindsurfing.org
SUMMARY:2025 Friday Night Foil Series
DESCRIPTION:
URL:https://uswindsurfing.org/event/2025-friday-night-foil-series-2/
LOCATION:St Francis Yacht Club\, 99 Yacht Rd\, San Francisco\, CA\, 94123\, United States
CATEGORIES:Foiling
ATTACH;FMTTYPE=image/jpeg:https://uswindsurfing.org/wp-content/uploads/2020/03/01s-1.jpg
END:VEVENT
END:VCALENDAR