BEGIN:VCALENDAR
VERSION:2.0
PRODID:-//US WINDSURFING - ECPv6.0.0//NONSGML v1.0//EN
CALSCALE:GREGORIAN
METHOD:PUBLISH
X-WR-CALNAME:US WINDSURFING
X-ORIGINAL-URL:https://uswindsurfing.org
X-WR-CALDESC:Events for US WINDSURFING
REFRESH-INTERVAL;VALUE=DURATION:PT1H
X-Robots-Tag:noindex
X-PUBLISHED-TTL:PT1H
BEGIN:VTIMEZONE
TZID:UTC
BEGIN:STANDARD
TZOFFSETFROM:+0000
TZOFFSETTO:+0000
TZNAME:UTC
DTSTART:20260101T000000
END:STANDARD
END:VTIMEZONE
BEGIN:VEVENT
DTSTART;TZID=UTC:20260612T080000
DTEND;TZID=UTC:20260614T170000
DTSTAMP:20260424T084744
CREATED:20260413T174411Z
LAST-MODIFIED:20260413T174411Z
UID:7798-1781251200-1781456400@uswindsurfing.org
SUMMARY:2026 Worthington Windsurfing Regatta and Music Festival
DESCRIPTION:
URL:https://uswindsurfing.org/event/2026-worthington-windsurfing-regatta-and-music-festival/
LOCATION:Worthington\, Worthington\, MN\, 56187\, United States
CATEGORIES:Open
ATTACH;FMTTYPE=image/jpeg:https://uswindsurfing.org/wp-content/uploads/2026/04/Lake-Okabena.jpg
END:VEVENT
END:VCALENDAR