BEGIN:VCALENDAR
VERSION:2.0
PRODID:-//US WINDSURFING - ECPv6.0.0//NONSGML v1.0//EN
CALSCALE:GREGORIAN
METHOD:PUBLISH
X-ORIGINAL-URL:https://uswindsurfing.org
X-WR-CALDESC:Events for US WINDSURFING
REFRESH-INTERVAL;VALUE=DURATION:PT1H
X-Robots-Tag:noindex
X-PUBLISHED-TTL:PT1H
BEGIN:VTIMEZONE
TZID:UTC
BEGIN:STANDARD
TZOFFSETFROM:+0000
TZOFFSETTO:+0000
TZNAME:UTC
DTSTART:20170101T000000
END:STANDARD
END:VTIMEZONE
BEGIN:VEVENT
DTSTART;TZID=UTC:20180616T080000
DTEND;TZID=UTC:20180616T170000
DTSTAMP:20260421T064924
CREATED:20180306T161424Z
LAST-MODIFIED:20180306T161424Z
UID:5421-1529136000-1529168400@uswindsurfing.org
SUMMARY:2018 BYC Calcup 2
DESCRIPTION:
URL:https://uswindsurfing.org/event/2018-byc-calcup-2/
LOCATION:Berkeley Yacht Club\, 1 Seawall Dr\, Berkeley\, CA\, 94710\, United States
CATEGORIES:Foiling,Formula
END:VEVENT
BEGIN:VEVENT
DTSTART;TZID=UTC:20180526T080000
DTEND;TZID=UTC:20180526T170000
DTSTAMP:20260421T064924
CREATED:20180306T161350Z
LAST-MODIFIED:20180306T161350Z
UID:5419-1527321600-1527354000@uswindsurfing.org
SUMMARY:2018 BYC Calcup 1
DESCRIPTION:
URL:https://uswindsurfing.org/event/2018-byc-calcup-1/
LOCATION:Berkeley Yacht Club\, 1 Seawall Dr\, Berkeley\, CA\, 94710\, United States
CATEGORIES:Foiling,Formula
END:VEVENT
BEGIN:VEVENT
DTSTART;TZID=UTC:20180425T120000
DTEND;TZID=UTC:20180429T170000
DTSTAMP:20260421T064924
CREATED:20171227T162744Z
LAST-MODIFIED:20171227T183233Z
UID:5302-1524657600-1525021200@uswindsurfing.org
SUMMARY:2018 US National Windsurfing Festival
DESCRIPTION:
URL:https://uswindsurfing.org/event/2018-us-national-windsurfing-festival/
LOCATION:Kashy\, 131 York Point Drive\, Seaford\, VA\, 23696\, United States
CATEGORIES:D2,Foiling,Formula,Kona,Long Distance,National,NRT,Open,raceboard,Slalom,Techno 293
END:VEVENT
BEGIN:VEVENT
DTSTART;TZID=UTC:20180309T080000
DTEND;TZID=UTC:20180311T170000
DTSTAMP:20260421T064924
CREATED:20170728T211113Z
LAST-MODIFIED:20180210T215345Z
UID:5165-1520582400-1520787600@uswindsurfing.org
SUMMARY:2018 Clearwater Midwinters
DESCRIPTION:
URL:https://uswindsurfing.org/event/2018-clearwater-midwinters/
LOCATION:Clearwater Community Sailing Center\, 1001 Gulf Blvd\, Clearwater\, FL\, 33767\, United States
CATEGORIES:Foiling,Formula,Kona,NRT,Open,RS:X,Techno 293
END:VEVENT
BEGIN:VEVENT
DTSTART;TZID=UTC:20180116T080000
DTEND;TZID=UTC:20180117T170000
DTSTAMP:20260421T064924
CREATED:20180110T182854Z
LAST-MODIFIED:20180110T182854Z
UID:5319-1516089600-1516208400@uswindsurfing.org
SUMMARY:2018 Miami RS:One Convertible Invitational
DESCRIPTION:By invitation-only
URL:https://uswindsurfing.org/event/2018-miami-rsone-convertible-invitational/
LOCATION:Coconut Grove Sailing Club\, 2990 S Bayshore Dr\, Miami\, FL\, 33133\, United States
CATEGORIES:Foiling
END:VEVENT
BEGIN:VEVENT
DTSTART;TZID=UTC:20171215T080000
DTEND;TZID=UTC:20171217T170000
DTSTAMP:20260421T064924
CREATED:20161226T202301Z
LAST-MODIFIED:20171117T184631Z
UID:4831-1513324800-1513530000@uswindsurfing.org
SUMMARY:2017 Miami Slalom Open
DESCRIPTION:
URL:https://uswindsurfing.org/event/2017-miami-slalom-open/
LOCATION:Virginia Key\, 4020 Virginia Beach Dr\, Miami\, FL\, 33149\, United States
CATEGORIES:Foiling,NRT,Slalom
END:VEVENT
BEGIN:VEVENT
DTSTART;TZID=UTC:20170930T080000
DTEND;TZID=UTC:20170930T170000
DTSTAMP:20260421T064924
CREATED:20170920T193707Z
LAST-MODIFIED:20170920T193707Z
UID:5220-1506758400-1506790800@uswindsurfing.org
SUMMARY:2017 USSCMC Foil Demo
DESCRIPTION:In cooperation with Adventure Sports Miami
URL:https://uswindsurfing.org/event/2017-usscmc-foil-demo/
LOCATION:USSCMC\, 1955 NE Indian River Dr\, Jensen Beach\, FL\, 34957\, United States
CATEGORIES:Clinic,Foiling
END:VEVENT
BEGIN:VEVENT
DTSTART;TZID=UTC:20170922T080000
DTEND;TZID=UTC:20170922T170000
DTSTAMP:20260421T064924
CREATED:20170405T020700Z
LAST-MODIFIED:20170405T020700Z
UID:5036-1506067200-1506099600@uswindsurfing.org
SUMMARY:2017 Friday Night CR Series #9
DESCRIPTION:
URL:https://uswindsurfing.org/event/2017-friday-night-cr-series-9/
LOCATION:Crissy Field\, 1199 E Beach\, San Francisco\, CA\, 94129\, United States
CATEGORIES:Foiling,Formula,Open
END:VEVENT
BEGIN:VEVENT
DTSTART;TZID=UTC:20170908T080000
DTEND;TZID=UTC:20170908T170000
DTSTAMP:20260421T064924
CREATED:20170405T020625Z
LAST-MODIFIED:20170405T020625Z
UID:5034-1504857600-1504890000@uswindsurfing.org
SUMMARY:2017 Friday Night CR Series #8
DESCRIPTION:
URL:https://uswindsurfing.org/event/2017-friday-night-cr-series-8/
LOCATION:Crissy Field\, 1199 E Beach\, San Francisco\, CA\, 94129\, United States
CATEGORIES:Foiling,Formula,Open
END:VEVENT
BEGIN:VEVENT
DTSTART;TZID=UTC:20170811T080000
DTEND;TZID=UTC:20170811T170000
DTSTAMP:20260421T064924
CREATED:20170405T020550Z
LAST-MODIFIED:20170405T020550Z
UID:5032-1502438400-1502470800@uswindsurfing.org
SUMMARY:2017 Friday Night CR Series #7
DESCRIPTION:
URL:https://uswindsurfing.org/event/2017-friday-night-cr-series-7/
LOCATION:Crissy Field\, 1199 E Beach\, San Francisco\, CA\, 94129\, United States
CATEGORIES:Foiling,Formula,Open
END:VEVENT
BEGIN:VEVENT
DTSTART;TZID=UTC:20170802T090000
DTEND;TZID=UTC:20170805T230000
DTSTAMP:20260421T064924
CREATED:20161226T201923Z
LAST-MODIFIED:20170901T195703Z
UID:4827-1501664400-1501974000@uswindsurfing.org
SUMMARY:2017 Nationals
DESCRIPTION:Thank you all for attending! Here are all the results:\nCourse Racing\nSlalom\nFreestyle\nLong Distance \nNotice of Race is published! \nEvent hotel: Doubletree by Hilton (book before July 15 for the USW group rate!).
URL:https://uswindsurfing.org/event/2017-nationals/
LOCATION:Berkeley Yacht Club\, 1 Seawall Dr\, Berkeley\, CA\, 94710\, United States
CATEGORIES:Clinic,Foiling,Freestyle,Kona,Long Distance,National,NRT,Open,raceboard,RS:X,Slalom,Techno 293
END:VEVENT
BEGIN:VEVENT
DTSTART;TZID=UTC:20170728T080000
DTEND;TZID=UTC:20170728T170000
DTSTAMP:20260421T064924
CREATED:20170405T020517Z
LAST-MODIFIED:20170405T020517Z
UID:5030-1501228800-1501261200@uswindsurfing.org
SUMMARY:2017 Friday Night CR Series #6
DESCRIPTION:
URL:https://uswindsurfing.org/event/2017-friday-night-cr-series-6/
LOCATION:Crissy Field\, 1199 E Beach\, San Francisco\, CA\, 94129\, United States
CATEGORIES:Foiling,Formula,Open
END:VEVENT
BEGIN:VEVENT
DTSTART;TZID=UTC:20170616T080000
DTEND;TZID=UTC:20170618T170000
DTSTAMP:20260421T064924
CREATED:20161213T191608Z
LAST-MODIFIED:20170511T211833Z
UID:4752-1497600000-1497805200@uswindsurfing.org
SUMMARY:2017 IWT - Rio Vista Grand Slam
DESCRIPTION:
URL:https://uswindsurfing.org/event/2017-iwt-rio-vista-grand-slam/
LOCATION:Sherman Island\, 5147 W Sherman Island Rd\, Rio Vista\, CA\, 94571\, United States
CATEGORIES:Foiling,Freestyle,Open,Slalom
END:VEVENT
BEGIN:VEVENT
DTSTART;TZID=UTC:20170616T080000
DTEND;TZID=UTC:20170616T170000
DTSTAMP:20260421T064924
CREATED:20170405T020438Z
LAST-MODIFIED:20170405T020438Z
UID:5028-1497600000-1497632400@uswindsurfing.org
SUMMARY:2017 Friday Night CR Series #5
DESCRIPTION:
URL:https://uswindsurfing.org/event/2017-friday-night-cr-series-5/
LOCATION:Crissy Field\, 1199 E Beach\, San Francisco\, CA\, 94129\, United States
CATEGORIES:Foiling,Formula,Open
END:VEVENT
BEGIN:VEVENT
DTSTART;TZID=UTC:20170602T080000
DTEND;TZID=UTC:20170602T170000
DTSTAMP:20260421T064924
CREATED:20170405T020411Z
LAST-MODIFIED:20170405T020411Z
UID:5026-1496390400-1496422800@uswindsurfing.org
SUMMARY:2017 Friday Night CR Series #4
DESCRIPTION:
URL:https://uswindsurfing.org/event/2017-friday-night-cr-series-4/
LOCATION:Crissy Field\, 1199 E Beach\, San Francisco\, CA\, 94129\, United States
CATEGORIES:Foiling,Formula,Open
END:VEVENT
BEGIN:VEVENT
DTSTART;TZID=UTC:20170505T080000
DTEND;TZID=UTC:20170505T170000
DTSTAMP:20260421T064924
CREATED:20170405T020336Z
LAST-MODIFIED:20170405T020336Z
UID:5024-1493971200-1494003600@uswindsurfing.org
SUMMARY:2017 Friday Night CR Series #3
DESCRIPTION:
URL:https://uswindsurfing.org/event/2017-friday-night-cr-series-3/
LOCATION:Crissy Field\, 1199 E Beach\, San Francisco\, CA\, 94129\, United States
CATEGORIES:Foiling,Formula,Open
END:VEVENT
BEGIN:VEVENT
DTSTART;TZID=UTC:20170428T080000
DTEND;TZID=UTC:20170428T170000
DTSTAMP:20260421T064924
CREATED:20170405T020254Z
LAST-MODIFIED:20170405T020254Z
UID:5022-1493366400-1493398800@uswindsurfing.org
SUMMARY:2017 Friday Night CR Series #2
DESCRIPTION:
URL:https://uswindsurfing.org/event/2017-friday-night-cr-series-2/
LOCATION:Crissy Field\, 1199 E Beach\, San Francisco\, CA\, 94129\, United States
CATEGORIES:Foiling,Formula,Open
END:VEVENT
BEGIN:VEVENT
DTSTART;TZID=UTC:20170407T080000
DTEND;TZID=UTC:20170407T170000
DTSTAMP:20260421T064924
CREATED:20170405T020221Z
LAST-MODIFIED:20170405T020221Z
UID:5020-1491552000-1491584400@uswindsurfing.org
SUMMARY:2017 Friday Night CR Series #1
DESCRIPTION:
URL:https://uswindsurfing.org/event/2017-friday-night-cr-series-1/
LOCATION:Crissy Field\, 1199 E Beach\, San Francisco\, CA\, 94129\, United States
CATEGORIES:Foiling,Formula,Open
END:VEVENT
END:VCALENDAR