BEGIN:VCALENDAR
VERSION:2.0
PRODID:-//US WINDSURFING - ECPv6.0.0//NONSGML v1.0//EN
CALSCALE:GREGORIAN
METHOD:PUBLISH
X-ORIGINAL-URL:https://uswindsurfing.org
X-WR-CALDESC:Events for US WINDSURFING
REFRESH-INTERVAL;VALUE=DURATION:PT1H
X-Robots-Tag:noindex
X-PUBLISHED-TTL:PT1H
BEGIN:VTIMEZONE
TZID:UTC
BEGIN:STANDARD
TZOFFSETFROM:+0000
TZOFFSETTO:+0000
TZNAME:UTC
DTSTART:20190101T000000
END:STANDARD
END:VTIMEZONE
BEGIN:VEVENT
DTSTART;TZID=UTC:20250203T080000
DTEND;TZID=UTC:20250208T170000
DTSTAMP:20260421T140000
CREATED:20240909T035321Z
LAST-MODIFIED:20240909T035321Z
UID:7476-1738569600-1739034000@uswindsurfing.org
SUMMARY:2025 WISSA World Championships
DESCRIPTION:
URL:https://uswindsurfing.org/event/2025-wissa-world-championships/
LOCATION:Madison\, 1001 Wisconsin Place\, Madison\, WI\, 53703\, United States
CATEGORIES:Ice
ATTACH;FMTTYPE=image/jpeg:https://uswindsurfing.org/wp-content/uploads/2024/09/Madison.jpg
END:VEVENT
BEGIN:VEVENT
DTSTART;TZID=UTC:20200210T080000
DTEND;TZID=UTC:20200215T170000
DTSTAMP:20260421T140000
CREATED:20191113T172800Z
LAST-MODIFIED:20191113T172800Z
UID:6533-1581321600-1581786000@uswindsurfing.org
SUMMARY:2020 WISSA
DESCRIPTION:
URL:https://uswindsurfing.org/event/2020-wissa/
LOCATION:Parnu\, Parnu\, Estonia
CATEGORIES:Ice,International
ATTACH;FMTTYPE=image/jpeg:https://uswindsurfing.org/wp-content/uploads/2019/11/wissa2020.jpg
END:VEVENT
BEGIN:VEVENT
DTSTART;TZID=UTC:20190204T080000
DTEND;TZID=UTC:20190209T170000
DTSTAMP:20260421T140000
CREATED:20190129T001113Z
LAST-MODIFIED:20190129T001113Z
UID:6012-1549267200-1549731600@uswindsurfing.org
SUMMARY:2019 WISSA
DESCRIPTION:
URL:https://uswindsurfing.org/event/2019-wissa/
LOCATION:Fond du Lac\, Fond du Lac\, WI\, United States
CATEGORIES:Ice,International
ATTACH;FMTTYPE=image/jpeg:https://uswindsurfing.org/wp-content/uploads/2019/01/01.jpg
END:VEVENT
END:VCALENDAR