BEGIN:VCALENDAR
VERSION:2.0
PRODID:-//US WINDSURFING - ECPv6.0.0//NONSGML v1.0//EN
CALSCALE:GREGORIAN
METHOD:PUBLISH
X-ORIGINAL-URL:https://uswindsurfing.org
X-WR-CALDESC:Events for US WINDSURFING
REFRESH-INTERVAL;VALUE=DURATION:PT1H
X-Robots-Tag:noindex
X-PUBLISHED-TTL:PT1H
BEGIN:VTIMEZONE
TZID:UTC
BEGIN:STANDARD
TZOFFSETFROM:+0000
TZOFFSETTO:+0000
TZNAME:UTC
DTSTART:20240101T000000
END:STANDARD
END:VTIMEZONE
BEGIN:VEVENT
DTSTART;TZID=UTC:20240702T180000
DTEND;TZID=UTC:20240702T200000
DTSTAMP:20260423T012335
CREATED:20240622T125755Z
LAST-MODIFIED:20240622T125755Z
UID:7392-1719943200-1719950400@uswindsurfing.org
SUMMARY:2024 Fleet18.org Course Racing Series
DESCRIPTION:Tuesday Night Course Racing Series – Windsurfer LT and Longboard 7.5 limited. All ages\, genders\, and abilities are welcome. Some boards available for charter. NO ENTRY FEES! All welcome to pizza afterwards at Waterfront Pizza!
URL:https://uswindsurfing.org/event/2024-fleet18-org-course-racing-series-2/
LOCATION:Foster City Lagoon\, 650 Shell Blvd\, Foster City\, CA\, 94404\, United States
CATEGORIES:Longboard 7.5 Limited,LT
ATTACH;FMTTYPE=image/jpeg:https://uswindsurfing.org/wp-content/uploads/2024/06/fleet18.jpg
END:VEVENT
BEGIN:VEVENT
DTSTART;TZID=UTC:20240706T080000
DTEND;TZID=UTC:20240707T170000
DTSTAMP:20260423T012335
CREATED:20240322T145038Z
LAST-MODIFIED:20240329T161533Z
UID:7337-1720252800-1720371600@uswindsurfing.org
SUMMARY:2024 Extreme Windsurfing Windsurfer LT Regatta
DESCRIPTION:
URL:https://uswindsurfing.org/event/2024-extreme-windsurfing-windsurfer-lt-regatta/
LOCATION:Lakes Bay\, 7079 E Black Horse Pike\, Pleasantville\, NJ\, 08232\, United States
CATEGORIES:LT
ATTACH;FMTTYPE=image/jpeg:https://uswindsurfing.org/wp-content/uploads/2024/03/https___cdn.evbuc_.com_images_729166559_2069728718303_1_original.jpg
END:VEVENT
BEGIN:VEVENT
DTSTART;TZID=UTC:20240709T180000
DTEND;TZID=UTC:20240709T200000
DTSTAMP:20260423T012335
CREATED:20240622T125911Z
LAST-MODIFIED:20240622T125911Z
UID:7394-1720548000-1720555200@uswindsurfing.org
SUMMARY:2024 Fleet18.org Course Racing Series
DESCRIPTION:Tuesday Night Course Racing Series – Windsurfer LT and Longboard 7.5 limited. All ages\, genders\, and abilities are welcome. Some boards available for charter. NO ENTRY FEES! All welcome to pizza afterwards at Waterfront Pizza!
URL:https://uswindsurfing.org/event/2024-fleet18-org-course-racing-series-3/
LOCATION:Foster City Lagoon\, 650 Shell Blvd\, Foster City\, CA\, 94404\, United States
CATEGORIES:Longboard 7.5 Limited,LT
ATTACH;FMTTYPE=image/jpeg:https://uswindsurfing.org/wp-content/uploads/2024/06/fleet18.jpg
END:VEVENT
BEGIN:VEVENT
DTSTART;TZID=UTC:20240712T080000
DTEND;TZID=UTC:20240714T170000
DTSTAMP:20260423T012335
CREATED:20240508T212723Z
LAST-MODIFIED:20240508T212723Z
UID:7368-1720771200-1720976400@uswindsurfing.org
SUMMARY:2024 LT West Coast Tour #3
DESCRIPTION:
URL:https://uswindsurfing.org/event/2024-lt-west-coast-tour-3/
LOCATION:Foster City Lagoon\, 650 Shell Blvd\, Foster City\, CA\, 94404\, United States
CATEGORIES:LT
ATTACH;FMTTYPE=image/jpeg:https://uswindsurfing.org/wp-content/uploads/2024/05/LT.jpg
END:VEVENT
BEGIN:VEVENT
DTSTART;TZID=UTC:20240713T080000
DTEND;TZID=UTC:20240714T170000
DTSTAMP:20260423T012335
CREATED:20240327T182911Z
LAST-MODIFIED:20240327T182911Z
UID:7343-1720857600-1720976400@uswindsurfing.org
SUMMARY:2024 Reservoir Rendezvous
DESCRIPTION:
URL:https://uswindsurfing.org/event/2024-reservoir-rendezvous/
LOCATION:New London Reservoir\, 2495 Euclid Road\, New London\, OH\, 44851\, United States
CATEGORIES:LT,Open
ATTACH;FMTTYPE=image/jpeg:https://uswindsurfing.org/wp-content/uploads/2024/03/new-london-reservoir.jpg
END:VEVENT
BEGIN:VEVENT
DTSTART;TZID=UTC:20240716T180000
DTEND;TZID=UTC:20240716T200000
DTSTAMP:20260423T012335
CREATED:20240622T130059Z
LAST-MODIFIED:20240622T130059Z
UID:7396-1721152800-1721160000@uswindsurfing.org
SUMMARY:2024 Fleet18.org Course Racing Series
DESCRIPTION:Tuesday Night Course Racing Series – Windsurfer LT and Longboard 7.5 limited. All ages\, genders\, and abilities are welcome. Some boards available for charter. NO ENTRY FEES! All welcome to pizza afterwards at Waterfront Pizza!
URL:https://uswindsurfing.org/event/2024-fleet18-org-course-racing-series-4/
LOCATION:Foster City Lagoon\, 650 Shell Blvd\, Foster City\, CA\, 94404\, United States
CATEGORIES:Longboard 7.5 Limited,LT
ATTACH;FMTTYPE=image/jpeg:https://uswindsurfing.org/wp-content/uploads/2024/06/fleet18.jpg
END:VEVENT
BEGIN:VEVENT
DTSTART;TZID=UTC:20240719T080000
DTEND;TZID=UTC:20240721T170000
DTSTAMP:20260423T012335
CREATED:20240508T212936Z
LAST-MODIFIED:20240508T212936Z
UID:7371-1721376000-1721581200@uswindsurfing.org
SUMMARY:2024 LT West Coast Tour #4
DESCRIPTION:
URL:https://uswindsurfing.org/event/2024-lt-west-coast-tour-4/
LOCATION:Lake Washington Sailing Club\, Boathouse Road\, West Sacramento\, CA\, 95691\, United States
CATEGORIES:LT
ATTACH;FMTTYPE=image/jpeg:https://uswindsurfing.org/wp-content/uploads/2024/05/LT.jpg
END:VEVENT
BEGIN:VEVENT
DTSTART;TZID=UTC:20240723T180000
DTEND;TZID=UTC:20240723T200000
DTSTAMP:20260423T012335
CREATED:20240622T130153Z
LAST-MODIFIED:20240622T130203Z
UID:7398-1721757600-1721764800@uswindsurfing.org
SUMMARY:2024 Fleet18.org Course Racing Series
DESCRIPTION:Tuesday Night Course Racing Series – Windsurfer LT and Longboard 7.5 limited. All ages\, genders\, and abilities are welcome. Some boards available for charter. NO ENTRY FEES! All welcome to pizza afterwards at Waterfront Pizza!
URL:https://uswindsurfing.org/event/2024-fleet18-org-course-racing-series-5/
LOCATION:Foster City Lagoon\, 650 Shell Blvd\, Foster City\, CA\, 94404\, United States
CATEGORIES:Longboard 7.5 Limited,LT
ATTACH;FMTTYPE=image/jpeg:https://uswindsurfing.org/wp-content/uploads/2024/06/fleet18.jpg
END:VEVENT
BEGIN:VEVENT
DTSTART;TZID=UTC:20240730T180000
DTEND;TZID=UTC:20240730T200000
DTSTAMP:20260423T012335
CREATED:20240622T130259Z
LAST-MODIFIED:20240622T130259Z
UID:7401-1722362400-1722369600@uswindsurfing.org
SUMMARY:2024 Fleet18.org Course Racing Series
DESCRIPTION:Tuesday Night Course Racing Series – Windsurfer LT and Longboard 7.5 limited. All ages\, genders\, and abilities are welcome. Some boards available for charter. NO ENTRY FEES! All welcome to pizza afterwards at Waterfront Pizza!
URL:https://uswindsurfing.org/event/2024-fleet18-org-course-racing-series-6/
LOCATION:Foster City Lagoon\, 650 Shell Blvd\, Foster City\, CA\, 94404\, United States
CATEGORIES:Longboard 7.5 Limited,LT
ATTACH;FMTTYPE=image/jpeg:https://uswindsurfing.org/wp-content/uploads/2024/06/fleet18.jpg
END:VEVENT
END:VCALENDAR