BEGIN:VCALENDAR
VERSION:2.0
PRODID:-//US WINDSURFING - ECPv6.0.0//NONSGML v1.0//EN
CALSCALE:GREGORIAN
METHOD:PUBLISH
X-ORIGINAL-URL:https://uswindsurfing.org
X-WR-CALDESC:Events for US WINDSURFING
REFRESH-INTERVAL;VALUE=DURATION:PT1H
X-Robots-Tag:noindex
X-PUBLISHED-TTL:PT1H
BEGIN:VTIMEZONE
TZID:UTC
BEGIN:STANDARD
TZOFFSETFROM:+0000
TZOFFSETTO:+0000
TZNAME:UTC
DTSTART:20240101T000000
END:STANDARD
END:VTIMEZONE
BEGIN:VEVENT
DTSTART;TZID=UTC:20240903T180000
DTEND;TZID=UTC:20240903T200000
DTSTAMP:20260422T221408
CREATED:20240622T130723Z
LAST-MODIFIED:20240622T130723Z
UID:7411-1725386400-1725393600@uswindsurfing.org
SUMMARY:2024 Fleet18.org Course Racing Series
DESCRIPTION:Tuesday Night Course Racing Series – Windsurfer LT and Longboard 7.5 limited. All ages\, genders\, and abilities are welcome. Some boards available for charter. NO ENTRY FEES! All welcome to pizza afterwards at Waterfront Pizza!
URL:https://uswindsurfing.org/event/2024-fleet18-org-course-racing-series-11/
LOCATION:Foster City Lagoon\, 650 Shell Blvd\, Foster City\, CA\, 94404\, United States
CATEGORIES:Longboard 7.5 Limited,LT
ATTACH;FMTTYPE=image/jpeg:https://uswindsurfing.org/wp-content/uploads/2024/06/fleet18.jpg
END:VEVENT
BEGIN:VEVENT
DTSTART;TZID=UTC:20240906T080000
DTEND;TZID=UTC:20240908T170000
DTSTAMP:20260422T221408
CREATED:20240327T184445Z
LAST-MODIFIED:20240327T184445Z
UID:7352-1725609600-1725814800@uswindsurfing.org
SUMMARY:2024 Wind Power Championships
DESCRIPTION:
URL:https://uswindsurfing.org/event/2024-wind-power-championships/
LOCATION:Fond du Lac\, Fond du Lac\, WI\, United States
CATEGORIES:LT,Open
ATTACH;FMTTYPE=image/jpeg:https://uswindsurfing.org/wp-content/uploads/2019/01/windpower.jpg
END:VEVENT
BEGIN:VEVENT
DTSTART;TZID=UTC:20240910T180000
DTEND;TZID=UTC:20240910T200000
DTSTAMP:20260422T221408
CREATED:20240622T130812Z
LAST-MODIFIED:20240622T130812Z
UID:7413-1725991200-1725998400@uswindsurfing.org
SUMMARY:2024 Fleet18.org Course Racing Series
DESCRIPTION:Tuesday Night Course Racing Series – Windsurfer LT and Longboard 7.5 limited. All ages\, genders\, and abilities are welcome. Some boards available for charter. NO ENTRY FEES! All welcome to pizza afterwards at Waterfront Pizza!
URL:https://uswindsurfing.org/event/2024-fleet18-org-course-racing-series-12/
LOCATION:Foster City Lagoon\, 650 Shell Blvd\, Foster City\, CA\, 94404\, United States
CATEGORIES:Longboard 7.5 Limited,LT
ATTACH;FMTTYPE=image/jpeg:https://uswindsurfing.org/wp-content/uploads/2024/06/fleet18.jpg
END:VEVENT
BEGIN:VEVENT
DTSTART;TZID=UTC:20240917T180000
DTEND;TZID=UTC:20240917T200000
DTSTAMP:20260422T221408
CREATED:20240622T130856Z
LAST-MODIFIED:20240622T130856Z
UID:7415-1726596000-1726603200@uswindsurfing.org
SUMMARY:2024 Fleet18.org Course Racing Series
DESCRIPTION:Tuesday Night Course Racing Series – Windsurfer LT and Longboard 7.5 limited. All ages\, genders\, and abilities are welcome. Some boards available for charter. NO ENTRY FEES! All welcome to pizza afterwards at Waterfront Pizza!
URL:https://uswindsurfing.org/event/2024-fleet18-org-course-racing-series-13/
LOCATION:Foster City Lagoon\, 650 Shell Blvd\, Foster City\, CA\, 94404\, United States
CATEGORIES:Longboard 7.5 Limited,LT
ATTACH;FMTTYPE=image/jpeg:https://uswindsurfing.org/wp-content/uploads/2024/06/fleet18.jpg
END:VEVENT
BEGIN:VEVENT
DTSTART;TZID=UTC:20240924T180000
DTEND;TZID=UTC:20240924T200000
DTSTAMP:20260422T221408
CREATED:20240622T130954Z
LAST-MODIFIED:20240622T130954Z
UID:7417-1727200800-1727208000@uswindsurfing.org
SUMMARY:2024 Fleet18.org Course Racing Series
DESCRIPTION:Tuesday Night Course Racing Series – Windsurfer LT and Longboard 7.5 limited. All ages\, genders\, and abilities are welcome. Some boards available for charter. NO ENTRY FEES! All welcome to pizza afterwards at Waterfront Pizza!
URL:https://uswindsurfing.org/event/2024-fleet18-org-course-racing-series-14/
LOCATION:Foster City Lagoon\, 650 Shell Blvd\, Foster City\, CA\, 94404\, United States
CATEGORIES:Longboard 7.5 Limited,LT
ATTACH;FMTTYPE=image/jpeg:https://uswindsurfing.org/wp-content/uploads/2024/06/fleet18.jpg
END:VEVENT
END:VCALENDAR