BEGIN:VCALENDAR
VERSION:2.0
PRODID:-//US WINDSURFING - ECPv6.0.0//NONSGML v1.0//EN
CALSCALE:GREGORIAN
METHOD:PUBLISH
X-WR-CALNAME:US WINDSURFING
X-ORIGINAL-URL:https://uswindsurfing.org
X-WR-CALDESC:Events for US WINDSURFING
REFRESH-INTERVAL;VALUE=DURATION:PT1H
X-Robots-Tag:noindex
X-PUBLISHED-TTL:PT1H
BEGIN:VTIMEZONE
TZID:UTC
BEGIN:STANDARD
TZOFFSETFROM:+0000
TZOFFSETTO:+0000
TZNAME:UTC
DTSTART:20250101T000000
END:STANDARD
END:VTIMEZONE
BEGIN:VEVENT
DTSTART;TZID=UTC:20250301T080000
DTEND;TZID=UTC:20250302T170000
DTSTAMP:20260422T123713
CREATED:20250221T034347Z
LAST-MODIFIED:20250221T034610Z
UID:7501-1740816000-1740934800@uswindsurfing.org
SUMMARY:2025 ACYA EE Manning Regatta
DESCRIPTION:
URL:https://uswindsurfing.org/event/2025-acya-ee-manning-regatta/
LOCATION:Alamitos Bay Yacht Club\, 7201 E Ocean Blvd\, Long Beach\, CA\, 90803\, United States
CATEGORIES:Foiling,LT
ATTACH;FMTTYPE=image/jpeg:https://uswindsurfing.org/wp-content/uploads/2025/02/Alamitos-Bay-YC.jpg
END:VEVENT
END:VCALENDAR