BEGIN:VCALENDAR
VERSION:2.0
PRODID:-//US WINDSURFING - ECPv6.0.0//NONSGML v1.0//EN
CALSCALE:GREGORIAN
METHOD:PUBLISH
X-WR-CALNAME:US WINDSURFING
X-ORIGINAL-URL:https://uswindsurfing.org
X-WR-CALDESC:Events for US WINDSURFING
REFRESH-INTERVAL;VALUE=DURATION:PT1H
X-Robots-Tag:noindex
X-PUBLISHED-TTL:PT1H
BEGIN:VTIMEZONE
TZID:UTC
BEGIN:STANDARD
TZOFFSETFROM:+0000
TZOFFSETTO:+0000
TZNAME:UTC
DTSTART:20250101T000000
END:STANDARD
END:VTIMEZONE
BEGIN:VEVENT
DTSTART;TZID=UTC:20250621T080000
DTEND;TZID=UTC:20250622T170000
DTSTAMP:20260422T032939
CREATED:20250407T195348Z
LAST-MODIFIED:20250407T195348Z
UID:7514-1750492800-1750611600@uswindsurfing.org
SUMMARY:2025 Island Surf & Sail Windsurfer LT Regatta
DESCRIPTION:
URL:https://uswindsurfing.org/event/2025-island-surf-sail-windsurfer-lt-regatta/
LOCATION:Bayview Park\, 6805 Long Beach Blvd\, Long Beach\, NJ\, 08008\, United States
CATEGORIES:LT
ATTACH;FMTTYPE=image/jpeg:https://uswindsurfing.org/wp-content/uploads/2025/02/Shell-Point.jpg
END:VEVENT
END:VCALENDAR