BEGIN:VCALENDAR
VERSION:2.0
PRODID:-//US WINDSURFING - ECPv6.0.0//NONSGML v1.0//EN
CALSCALE:GREGORIAN
METHOD:PUBLISH
X-ORIGINAL-URL:https://uswindsurfing.org
X-WR-CALDESC:Events for US WINDSURFING
REFRESH-INTERVAL;VALUE=DURATION:PT1H
X-Robots-Tag:noindex
X-PUBLISHED-TTL:PT1H
BEGIN:VTIMEZONE
TZID:UTC
BEGIN:STANDARD
TZOFFSETFROM:+0000
TZOFFSETTO:+0000
TZNAME:UTC
DTSTART:20240101T000000
END:STANDARD
END:VTIMEZONE
BEGIN:VEVENT
DTSTART;TZID=UTC:20240621T080000
DTEND;TZID=UTC:20240623T170000
DTSTAMP:20260423T041250
CREATED:20240508T212236Z
LAST-MODIFIED:20240508T212236Z
UID:7361-1718956800-1719162000@uswindsurfing.org
SUMMARY:2024 LT West Coast Tour #1
DESCRIPTION:
URL:https://uswindsurfing.org/event/2024-lt-west-coast-tour-1/
LOCATION:Sail Sand Point\, 7861 62nd Ave NE\, Seattle\, WA\, 98115\, United States
CATEGORIES:LT
ATTACH;FMTTYPE=image/jpeg:https://uswindsurfing.org/wp-content/uploads/2024/05/LT.jpg
END:VEVENT
END:VCALENDAR