BEGIN:VCALENDAR
VERSION:2.0
PRODID:-//US WINDSURFING - ECPv6.0.0//NONSGML v1.0//EN
CALSCALE:GREGORIAN
METHOD:PUBLISH
X-ORIGINAL-URL:https://uswindsurfing.org
X-WR-CALDESC:Events for US WINDSURFING
REFRESH-INTERVAL;VALUE=DURATION:PT1H
X-Robots-Tag:noindex
X-PUBLISHED-TTL:PT1H
BEGIN:VTIMEZONE
TZID:UTC
BEGIN:STANDARD
TZOFFSETFROM:+0000
TZOFFSETTO:+0000
TZNAME:UTC
DTSTART:20240101T000000
END:STANDARD
END:VTIMEZONE
BEGIN:VEVENT
DTSTART;TZID=UTC:20240628T080000
DTEND;TZID=UTC:20240630T170000
DTSTAMP:20260423T041251
CREATED:20240508T212527Z
LAST-MODIFIED:20240508T212527Z
UID:7365-1719561600-1719766800@uswindsurfing.org
SUMMARY:2024 LT West Coast Tour #2
DESCRIPTION:
URL:https://uswindsurfing.org/event/2024-lt-west-coast-tour-2/
LOCATION:Bob’s Beach\, 200 SW Cascade Ave\, Stevenson\, WA\, 98648\, United States
CATEGORIES:LT
ATTACH;FMTTYPE=image/jpeg:https://uswindsurfing.org/wp-content/uploads/2024/05/LT.jpg
END:VEVENT
BEGIN:VEVENT
DTSTART;TZID=UTC:20240629T080000
DTEND;TZID=UTC:20240630T170000
DTSTAMP:20260423T041251
CREATED:20240322T144427Z
LAST-MODIFIED:20240329T161701Z
UID:7332-1719648000-1719766800@uswindsurfing.org
SUMMARY:2024 Spring into Summer Windsurfer LT Regatta
DESCRIPTION:
URL:https://uswindsurfing.org/event/2024-spring-into-summer-windsurfer-lt-regatta/
LOCATION:Highland Lakes\, 2240 Lakeside Drive West\, Highland Lakes\, NJ\, 07422\, United States
CATEGORIES:LT
ATTACH;FMTTYPE=image/jpeg:https://uswindsurfing.org/wp-content/uploads/2024/03/https___cdn.evbuc_.com_images_729163159_2069728718303_1_original.jpg
END:VEVENT
END:VCALENDAR