BEGIN:VCALENDAR
VERSION:2.0
PRODID:-//US WINDSURFING - ECPv6.0.0//NONSGML v1.0//EN
CALSCALE:GREGORIAN
METHOD:PUBLISH
X-ORIGINAL-URL:https://uswindsurfing.org
X-WR-CALDESC:Events for US WINDSURFING
REFRESH-INTERVAL;VALUE=DURATION:PT1H
X-Robots-Tag:noindex
X-PUBLISHED-TTL:PT1H
BEGIN:VTIMEZONE
TZID:UTC
BEGIN:STANDARD
TZOFFSETFROM:+0000
TZOFFSETTO:+0000
TZNAME:UTC
DTSTART:20240101T000000
END:STANDARD
END:VTIMEZONE
BEGIN:VEVENT
DTSTART;TZID=UTC:20240712T080000
DTEND;TZID=UTC:20240714T170000
DTSTAMP:20260423T041331
CREATED:20240508T212723Z
LAST-MODIFIED:20240508T212723Z
UID:7368-1720771200-1720976400@uswindsurfing.org
SUMMARY:2024 LT West Coast Tour #3
DESCRIPTION:
URL:https://uswindsurfing.org/event/2024-lt-west-coast-tour-3/
LOCATION:Foster City Lagoon\, 650 Shell Blvd\, Foster City\, CA\, 94404\, United States
CATEGORIES:LT
ATTACH;FMTTYPE=image/jpeg:https://uswindsurfing.org/wp-content/uploads/2024/05/LT.jpg
END:VEVENT
BEGIN:VEVENT
DTSTART;TZID=UTC:20240713T080000
DTEND;TZID=UTC:20240714T170000
DTSTAMP:20260423T041331
CREATED:20240327T182911Z
LAST-MODIFIED:20240327T182911Z
UID:7343-1720857600-1720976400@uswindsurfing.org
SUMMARY:2024 Reservoir Rendezvous
DESCRIPTION:
URL:https://uswindsurfing.org/event/2024-reservoir-rendezvous/
LOCATION:New London Reservoir\, 2495 Euclid Road\, New London\, OH\, 44851\, United States
CATEGORIES:LT,Open
ATTACH;FMTTYPE=image/jpeg:https://uswindsurfing.org/wp-content/uploads/2024/03/new-london-reservoir.jpg
END:VEVENT
END:VCALENDAR