BEGIN:VCALENDAR
VERSION:2.0
PRODID:-//US WINDSURFING - ECPv6.0.0//NONSGML v1.0//EN
CALSCALE:GREGORIAN
METHOD:PUBLISH
X-WR-CALNAME:US WINDSURFING
X-ORIGINAL-URL:https://uswindsurfing.org
X-WR-CALDESC:Events for US WINDSURFING
REFRESH-INTERVAL;VALUE=DURATION:PT1H
X-Robots-Tag:noindex
X-PUBLISHED-TTL:PT1H
BEGIN:VTIMEZONE
TZID:UTC
BEGIN:STANDARD
TZOFFSETFROM:+0000
TZOFFSETTO:+0000
TZNAME:UTC
DTSTART:20250101T000000
END:STANDARD
END:VTIMEZONE
BEGIN:VEVENT
DTSTART;TZID=UTC:20251017T080000
DTEND;TZID=UTC:20251019T170000
DTSTAMP:20260421T220500
CREATED:20250624T165848Z
LAST-MODIFIED:20250624T165848Z
UID:7521-1760688000-1760893200@uswindsurfing.org
SUMMARY:2025 Endless Summer Sailboard Classic
DESCRIPTION:
URL:https://uswindsurfing.org/event/2025-endless-summer-sailboard-classic/
LOCATION:Shell Point Beach\, Crawfordville\, FL\, 32327\, United States
CATEGORIES:LT,Open
ATTACH;FMTTYPE=image/jpeg:https://uswindsurfing.org/wp-content/uploads/2025/02/Shell-Point.jpg
END:VEVENT
END:VCALENDAR