BEGIN:VCALENDAR
VERSION:2.0
PRODID:-//US WINDSURFING - ECPv6.0.0//NONSGML v1.0//EN
CALSCALE:GREGORIAN
METHOD:PUBLISH
X-ORIGINAL-URL:https://uswindsurfing.org
X-WR-CALDESC:Events for US WINDSURFING
REFRESH-INTERVAL;VALUE=DURATION:PT1H
X-Robots-Tag:noindex
X-PUBLISHED-TTL:PT1H
BEGIN:VTIMEZONE
TZID:UTC
BEGIN:STANDARD
TZOFFSETFROM:+0000
TZOFFSETTO:+0000
TZNAME:UTC
DTSTART:20250101T000000
END:STANDARD
END:VTIMEZONE
BEGIN:VEVENT
DTSTART;TZID=UTC:20250829T080000
DTEND;TZID=UTC:20250901T170000
DTSTAMP:20260422T004543
CREATED:20250807T212729Z
LAST-MODIFIED:20250807T212831Z
UID:7569-1756454400-1756746000@uswindsurfing.org
SUMMARY:2025 Windsurfer LT Nationals
DESCRIPTION:
URL:https://uswindsurfing.org/event/2025-windsurfer-lt-nationals/
LOCATION:Coronado Yacht Club\, 1631 Strand Way\, Coronado\, CA\, 92118\, United States
CATEGORIES:LT,National
ATTACH;FMTTYPE=image/jpeg:https://uswindsurfing.org/wp-content/uploads/2025/08/Coronado-Yacht-CLub-San-Diego.jpg
END:VEVENT
END:VCALENDAR