BEGIN:VCALENDAR
VERSION:2.0
PRODID:-//US WINDSURFING - ECPv6.0.0//NONSGML v1.0//EN
CALSCALE:GREGORIAN
METHOD:PUBLISH
X-WR-CALNAME:US WINDSURFING
X-ORIGINAL-URL:https://uswindsurfing.org
X-WR-CALDESC:Events for US WINDSURFING
REFRESH-INTERVAL;VALUE=DURATION:PT1H
X-Robots-Tag:noindex
X-PUBLISHED-TTL:PT1H
BEGIN:VTIMEZONE
TZID:UTC
BEGIN:STANDARD
TZOFFSETFROM:+0000
TZOFFSETTO:+0000
TZNAME:UTC
DTSTART:20240101T000000
END:STANDARD
END:VTIMEZONE
BEGIN:VEVENT
DTSTART;TZID=UTC:20241227T080000
DTEND;TZID=UTC:20241230T170000
DTSTAMP:20260421T202256
CREATED:20240526T031143Z
LAST-MODIFIED:20240526T031143Z
UID:7385-1735286400-1735578000@uswindsurfing.org
SUMMARY:2024 Orange Bowl - Formula Foil Youth North American Championships
DESCRIPTION:
URL:https://uswindsurfing.org/event/2024-orange-bowl-formula-foil-youth-north-american-championships/
LOCATION:Biscayne Bay Yacht Club\, 2540 S Bayshore Dr\, Miami\, FL\, 33133\, United States
CATEGORIES:Foiling,Slalom,Youth
ATTACH;FMTTYPE=image/jpeg:https://uswindsurfing.org/wp-content/uploads/2024/03/Virginia-Key.jpg
END:VEVENT
END:VCALENDAR